BEGIN:VCALENDAR
VERSION:2.0
PRODID:-//ChamberMaster//Event Calendar 2.0//EN
METHOD:PUBLISH
X-PUBLISHED-TTL:P3D
REFRESH-INTERVAL:P3D
CALSCALE:GREGORIAN
BEGIN:VEVENT
DTSTART:20260528T183000Z
DTEND:20260528T190000Z
X-MICROSOFT-CDO-ALLDAYEVENT:FALSE
SUMMARY:Ribbon Cutting at The Behavior Lab
DESCRIPTION:Ribbon cutting at The Behavior Lab
X-ALT-DESC;FMTTYPE=text/html:Ribbon cutting at The Behavior Lab
LOCATION:2550 Canyon Springs Parkway\, Suite B-F Riverside
UID:e.1843.7467
SEQUENCE:3
DTSTAMP:20260424T152148Z
URL:http://business.movalchamber.org/events/details/ribbon-cutting-at-the-behavior-lab-7467
END:VEVENT

END:VCALENDAR
