BEGIN:VCALENDAR
VERSION:2.0
PRODID:-//ChamberMaster//Event Calendar 2.0//EN
METHOD:PUBLISH
X-PUBLISHED-TTL:P3D
REFRESH-INTERVAL:P3D
CALSCALE:GREGORIAN
BEGIN:VEVENT
DTSTART:20260520T183000Z
DTEND:20260520T210000Z
X-MICROSOFT-CDO-ALLDAYEVENT:FALSE
SUMMARY:Ribbon Cutting - Empire Jamaican Restaurant & Market
DESCRIPTION:Ribbon Cutting at Empire Jamaican Restaurant and Empire Caribbean Market.
X-ALT-DESC;FMTTYPE=text/html:Ribbon Cutting at Empire Jamaican Restaurant and Empire Caribbean Market.
LOCATION:23100 Alessandro Boulevard\, Suite G Moreno Valley
UID:e.1843.7465
SEQUENCE:3
DTSTAMP:20260424T170407Z
URL:http://business.movalchamber.org/events/details/ribbon-cutting-empire-jamaican-restaurant-market-7465
END:VEVENT

END:VCALENDAR
