BEGIN:VCALENDAR
VERSION:2.0
PRODID:-//ChamberMaster//Event Calendar 2.0//EN
METHOD:PUBLISH
X-PUBLISHED-TTL:P3D
REFRESH-INTERVAL:P3D
CALSCALE:GREGORIAN
BEGIN:VEVENT
DTSTART;VALUE=DATE:20260615
DTEND;VALUE=DATE:20260616
TRANSP:TRANSPARENT
X-MICROSOFT-CDO-ALLDAYEVENT:TRUE
SUMMARY:Ribbon Cutting - Jan Peterson Child Development Center
DESCRIPTION:Ribbon Cutting at Jan Peterson Child Development Center.  This expansion represents a meaningful investment in early childhood education and the local workforce allowing service to more families in Moreno Valley with a safe\, enriching and engaging learning environment.
X-ALT-DESC;FMTTYPE=text/html:Ribbon Cutting at Jan Peterson Child Development Center.&nbsp\; This expansion represents a meaningful investment in early childhood education and the local workforce allowing service to more families in Moreno Valley with a safe\, enriching and engaging learning environment.&nbsp\;&nbsp\;
LOCATION:Jan Peterson Child Development Center 26895 Brodiaea Avenue Moreno Valley 92555
UID:e.1843.7468
SEQUENCE:3
DTSTAMP:20260426T025108Z
URL:http://business.movalchamber.org/events/details/ribbon-cutting-jan-peterson-child-development-center-7468
END:VEVENT

END:VCALENDAR
