BEGIN:VCALENDAR
VERSION:2.0
PRODID:-//ChamberMaster//Event Calendar 2.0//EN
METHOD:PUBLISH
X-PUBLISHED-TTL:P3D
REFRESH-INTERVAL:P3D
CALSCALE:GREGORIAN
BEGIN:VEVENT
DTSTART:20260527T183000Z
DTEND:20260528T000000Z
X-MICROSOFT-CDO-ALLDAYEVENT:FALSE
SUMMARY:Ribbon Cutting - LCBBQ
DESCRIPTION:Ribbon Cutting at LCBBQ.
X-ALT-DESC;FMTTYPE=text/html:Ribbon Cutting at LCBBQ.<br />\n&nbsp\;
LOCATION:14051 Indian St.\, Suite D Moreno Valley
UID:e.1843.7466
SEQUENCE:3
DTSTAMP:20260424T171014Z
URL:http://business.movalchamber.org/events/details/ribbon-cutting-lcbbq-7466
END:VEVENT

END:VCALENDAR
