BEGIN:VCALENDAR
VERSION:2.0
PRODID:-//ChamberMaster//Event Calendar 2.0//EN
METHOD:PUBLISH
X-PUBLISHED-TTL:P3D
REFRESH-INTERVAL:P3D
CALSCALE:GREGORIAN
BEGIN:VEVENT
DTSTART:20160803T160000Z
DTEND:20160803T190000Z
X-MICROSOFT-CDO-ALLDAYEVENT:FALSE
SUMMARY:Advanced QuickBooks for Beginners
DESCRIPTION:Inland Empire Small Business Development Center Training Event: This seminar was designed to build upon the principles introduced in the QuickBooks for Beginners seminar and will discuss the following topics: - Creating & Setting up a Company - Working With Lists - Working with Bank Accounts - Using Other Accounts in QuickBooks - Entering Sales Information - Receiving Payments & Making Deposits - Entering and Paying Bills - Your Options With QuickBooks Payroll
X-ALT-DESC;FMTTYPE=text/html:Inland Empire Small Business Development Center Training Event: This seminar was designed to build upon the principles introduced in the QuickBooks for Beginners seminar and will discuss the following topics: - Creating &amp\; Setting up a Company - Working With Lists - Working with Bank Accounts - Using Other Accounts in QuickBooks - Entering Sales Information - Receiving Payments &amp\; Making Deposits - Entering and Paying Bills - Your Options With QuickBooks Payroll
LOCATION:Moreno Valley Conference Center - 14075 Frederick Street (Alessandro Room A)
UID:e.1843.1431
SEQUENCE:3
DTSTAMP:20260426T025359Z
URL:https://business.movalchamber.org/events/details/advanced-quickbooks-for-beginners-08-03-2016-1431
END:VEVENT

END:VCALENDAR
