BEGIN:VCALENDAR
VERSION:2.0
PRODID:-//ChamberMaster//Event Calendar 2.0//EN
METHOD:PUBLISH
X-PUBLISHED-TTL:P3D
REFRESH-INTERVAL:P3D
CALSCALE:GREGORIAN
BEGIN:VEVENT
DTSTART:20160920T182500Z
DTEND:20160920T200000Z
X-MICROSOFT-CDO-ALLDAYEVENT:FALSE
SUMMARY:Affordable Care Act Workshop
DESCRIPTION:Get your questions answered \n\nat a workshop on the Affordable Care Act\n\n \n\nTackling the Affordable Care Act\n\nWhile Running a Successful Business\n\nMarc Feldstein\, Licensed Insurance Agent
X-ALT-DESC;FMTTYPE=text/html:<div _mce_style="font-size: 14pt\; color: #0070c0\;" color:="" font-size:="" line-height:="" new="" text-align:="" times=""><strong>Get your questions answered&nbsp\;</strong></div>\n\n<div _mce_style="font-size: 14pt\; color: #0070c0\;" color:="" font-size:="" line-height:="" new="" style="font-family: " text-align:="" times=""><strong>at a workshop on the Affordable Care Act</strong></div>\n\n<div _mce_style="color: #0070c0\;" color:="" font-size:="" line-height:="" new="" style="font-family: " text-align:="" times="">&nbsp\;</div>\n\n<div _mce_style="font-size: 12pt\;" font-size:="" line-height:="" new="" style="color: rgb(39\, 51\, 58)\; font-family: " text-align:="" times="">Tackling the Affordable Care&nbsp\;Act</div>\n\n<div _mce_style="font-size: 12pt\;" font-size:="" line-height:="" new="" style="color: rgb(39\, 51\, 58)\; font-family: " text-align:="" times="">While Running a Successful Business<br />\n<span style="font-family:corbel\,sans-serif\;"><span style="font-size:13.0pt\;"><a><strong><span style="color:black\;"><span style="font-family:arial\,sans-serif\;"><span style="font-size:8.5pt\;">Marc Feldstein</span></span></span></strong></a></span><span style="color:black\;">\,</span></span>&nbsp\;<span style="color:black\;"><span style="font-family:arial\,sans-serif\;"><span style="font-size:8.5pt\;">Licensed Insurance Agent</span></span></span>&nbsp\;&nbsp\; &nbsp\; &nbsp\; &nbsp\; &nbsp\; &nbsp\; &nbsp\; &nbsp\; &nbsp\; &nbsp\; &nbsp\; &nbsp\;&nbsp\;<br />\n&nbsp\;</div>\n\n<div _mce_style="font-size: 12pt\;" font-size:="" line-height:="" new="" style="color: rgb(39\, 51\, 58)\; font-family: " text-align:="" times="">&nbsp\;</div>\n\n<div _mce_style="font-size: 12pt\; color: #92d050\;" color:="" font-size:="" line-height:="" new="" style="font-family: " text-align:="" times="">&nbsp\;</div>\n
LOCATION:Chamber Office 12625 Frederick St.\, Suite E3
UID:e.1843.1673
SEQUENCE:3
DTSTAMP:20260426T043256Z
URL:https://business.movalchamber.org/events/details/affordable-care-act-workshop-1673
END:VEVENT

END:VCALENDAR
