BEGIN:VCALENDAR
VERSION:2.0
PRODID:-//ChamberMaster//Event Calendar 2.0//EN
METHOD:PUBLISH
X-PUBLISHED-TTL:P3D
REFRESH-INTERVAL:P3D
CALSCALE:GREGORIAN
BEGIN:VEVENT
DTSTART:20160814T000000Z
DTEND:20160814T040000Z
X-MICROSOFT-CDO-ALLDAYEVENT:FALSE
SUMMARY:Bark For Life of Moreno Valley
DESCRIPTION:Bark For Life of Moreno Valley is a way for families and furry friends to fight back against cancer. We will have vendors\, food\, music\, and fun activities for people and their pets. Register early and receive 5 free raffle tickets!
X-ALT-DESC;FMTTYPE=text/html:Bark For Life of Moreno Valley is a way for families and furry friends to fight back against cancer. We will have vendors\, food\, music\, and fun activities for people and their pets. Register early and receive 5 free raffle tickets!
LOCATION:Valley View High School 13135 Nason St Moreno Valley\, CA 92555
UID:e.1843.1663
SEQUENCE:3
DTSTAMP:20260426T025519Z
URL:https://business.movalchamber.org/events/details/bark-for-life-of-moreno-valley-08-13-2016-1663
END:VEVENT

END:VCALENDAR
