BEGIN:VCALENDAR
VERSION:2.0
PRODID:-//ChamberMaster//Event Calendar 2.0//EN
METHOD:PUBLISH
X-PUBLISHED-TTL:P3D
REFRESH-INTERVAL:P3D
CALSCALE:GREGORIAN
BEGIN:VEVENT
DTSTART:20160917T020000Z
DTEND:20160917T050000Z
X-MICROSOFT-CDO-ALLDAYEVENT:FALSE
SUMMARY:Boundaries BashFest Meet & Greet
DESCRIPTION:Come out to meet the Performers and more at our fundraising event on Friday\, September 16 from 7 - 10 pm at our Vanguard Art Gallery. Walk the Red Carpet\, pose for the photographs\, be interviewed by radio personality\, Sheena Steel\, mingle\, and dance. It is going to be a fun night. Reserve your ticket(s) now by filling out the registration form below and then click the DONATE button to make you payment on our PayPal site (PayPal\, Check\, Debit\, Credit).
X-ALT-DESC;FMTTYPE=text/html:Come out to meet the Performers and more at our fundraising event on Friday\, September 16 from 7 - 10 pm at our Vanguard Art Gallery. Walk the Red Carpet\, pose for the photographs\, be interviewed by radio personality\, Sheena Steel\, mingle\, and dance. It is going to be a fun night. Reserve your ticket(s) now by filling out the registration form below and then click the DONATE button to make you payment on our PayPal site (PayPal\, Check\, Debit\, Credit).
LOCATION:Vanguard Art Gallery\, 27120 Eucalyptus Avenue\, Suite A\, Moreno Valley\, CA 92555
UID:e.1843.1671
SEQUENCE:3
DTSTAMP:20260426T043347Z
URL:https://business.movalchamber.org/events/details/boundaries-bashfest-meet-greet-09-16-2016-1671
END:VEVENT

END:VCALENDAR
