BEGIN:VCALENDAR
VERSION:2.0
PRODID:-//ChamberMaster//Event Calendar 2.0//EN
METHOD:PUBLISH
X-PUBLISHED-TTL:P3D
REFRESH-INTERVAL:P3D
CALSCALE:GREGORIAN
BEGIN:VEVENT
DTSTART:20211006T143000Z
DTEND:20211006T153000Z
X-MICROSOFT-CDO-ALLDAYEVENT:FALSE
SUMMARY:Business In Action
DESCRIPTION:Busines In Action (B.I.A.)\n\nFeatured Speaker\n\nJeannette Olko \n\nElectric Utility Division Manager\n\nPublic Works\n\nCity of Moreno Valley\n\n"City Wide Broadband"
X-ALT-DESC;FMTTYPE=text/html:<div align="center" style="color: rgb(64\, 63\, 66)\; font-family: Arial\, Verdana\, Helvetica\, sans-serif\; font-size: 12px\; text-align: center\;"><span style="font-size: 18px\; color: rgb(0\, 0\, 0)\; font-weight: bold\;">Busines In Action (B.I.A.)<br />\nFeatured Speaker</span></div>\n\n<div align="center" style="color: rgb(64\, 63\, 66)\; font-family: Arial\, Verdana\, Helvetica\, sans-serif\; font-size: 12px\; text-align: center\;"><span style="font-size: 18px\; color: rgb(0\, 64\, 120)\; font-weight: bold\;">Jeannette Olko</span><span style="font-size: 18px\; color: rgb(0\, 64\, 120)\;">&nbsp\;</span></div>\n\n<div align="center" style="color: rgb(64\, 63\, 66)\; font-family: Arial\, Verdana\, Helvetica\, sans-serif\; font-size: 12px\; text-align: center\;"><span style="font-size: 18px\; color: rgb(0\, 64\, 120)\; font-weight: bold\;">Electric Utility Division Manager</span></div>\n\n<div align="center" style="color: rgb(64\, 63\, 66)\; font-family: Arial\, Verdana\, Helvetica\, sans-serif\; font-size: 12px\; text-align: center\;"><span style="font-size: 18px\; color: rgb(0\, 64\, 120)\; font-weight: bold\;">Public Works</span></div>\n\n<div align="center" style="color: rgb(64\, 63\, 66)\; font-family: Arial\, Verdana\, Helvetica\, sans-serif\; font-size: 12px\; text-align: center\;"><span style="font-size: 18px\; color: rgb(0\, 64\, 120)\; font-weight: bold\;">City of Moreno Valley</span></div>\n\n<div align="center" style="color: rgb(64\, 63\, 66)\; font-family: Arial\, Verdana\, Helvetica\, sans-serif\; font-size: 12px\; text-align: center\;"><span style="font-size: 18px\; color: rgb(0\, 64\, 120)\; font-weight: bold\;">&quot\;City Wide Broadband&quot\;</span></div>\n
LOCATION:Note Location! All Solutions Insurance 22364 Alessandro Blvd. Held Outdoors
UID:e.1843.3322
SEQUENCE:3
DTSTAMP:20260424T124432Z
URL:https://business.movalchamber.org/events/details/business-in-action-3322
END:VEVENT

END:VCALENDAR
