BEGIN:VCALENDAR
VERSION:2.0
PRODID:-//ChamberMaster//Event Calendar 2.0//EN
METHOD:PUBLISH
X-PUBLISHED-TTL:P3D
REFRESH-INTERVAL:P3D
CALSCALE:GREGORIAN
BEGIN:VEVENT
DTSTART:20220406T143000Z
DTEND:20220406T153000Z
X-MICROSOFT-CDO-ALLDAYEVENT:FALSE
SUMMARY:Business In Action
DESCRIPTION:Business In Action\n\nGuest Speakers:  Brian Mohan\, Assistant City Manager and Dena Heald\, Assistant Finance Director
X-ALT-DESC;FMTTYPE=text/html:Business In Action<br />\nGuest Speakers:&nbsp\; Brian Mohan\, Assistant City Manager and Dena Heald\, Assistant Finance Director
LOCATION:Moreno Valley Chamber of Commerce 12625 Frederick St.\, Suite E-3 Moreno Valley\, CA 92553
UID:e.1843.3338
SEQUENCE:3
DTSTAMP:20260419T145343Z
URL:https://business.movalchamber.org/events/details/business-in-action-3338
END:VEVENT

END:VCALENDAR
