BEGIN:VCALENDAR
VERSION:2.0
PRODID:-//ChamberMaster//Event Calendar 2.0//EN
METHOD:PUBLISH
X-PUBLISHED-TTL:P3D
REFRESH-INTERVAL:P3D
CALSCALE:GREGORIAN
BEGIN:VEVENT
DTSTART:20210804T143000Z
DTEND:20210804T153000Z
X-MICROSOFT-CDO-ALLDAYEVENT:FALSE
SUMMARY:Business In Action BACK IN PERSON
DESCRIPTION:B.I.A. is an excellent opportunity to meet other business and community leaders and to market your business as well as becoming informed on all upcoming events and activities.\n\n\n\nLocation\n\nAll Solutions Insurance\n\n22364 Alessandro Blvd.\n\n\n\nThank you\, to All Solutions Insurance for hosting our in person Business In Action.
X-ALT-DESC;FMTTYPE=text/html:<span style="color: rgb(68\, 68\, 68)\; font-family: Tahoma\, Arial\, sans-serif\; font-size: 14px\;">B.I.A. is an excellent opportunity to meet other business and&nbsp\;community leaders and to market your business as well as becoming informed on all upcoming events and activities.</span><br />\n<br />\n<span style="margin: 0px\; padding: 0px\; border: 0px\; outline: 0px\; box-sizing: border-box\; color: rgb(68\, 68\, 68)\; font-family: Tahoma\, Arial\, sans-serif\; font-size: 14px\;"><span style="margin: 0px\; padding: 0px\; border: 0px\; outline: 0px\; box-sizing: border-box\; font-weight: bolder\;"><span style="margin: 0px\; padding: 0px\; border: 0px\; outline: 0px\; box-sizing: border-box\; text-align: -webkit-center\;">Location</span></span></span><br style="box-sizing: border-box\; color: rgb(68\, 68\, 68)\; font-family: Tahoma\, Arial\, sans-serif\;" />\n<span style="margin: 0px\; padding: 0px\; border: 0px\; outline: 0px\; box-sizing: border-box\; font-weight: bolder\; color: rgb(68\, 68\, 68)\; font-family: Tahoma\, Arial\, sans-serif\;"><span style="margin: 0px\; padding: 0px\; border: 0px\; outline: 0px\; box-sizing: border-box\; font-size: 14px\;">All Solutions Insurance</span></span><br style="box-sizing: border-box\; color: rgb(68\, 68\, 68)\; font-family: Tahoma\, Arial\, sans-serif\;" />\n<span style="margin: 0px\; padding: 0px\; border: 0px\; outline: 0px\; box-sizing: border-box\; font-weight: bolder\; color: rgb(68\, 68\, 68)\; font-family: Tahoma\, Arial\, sans-serif\;"><span style="margin: 0px\; padding: 0px\; border: 0px\; outline: 0px\; box-sizing: border-box\; font-size: 14px\;">22364 Alessandro Blvd.</span></span><br style="box-sizing: border-box\; color: rgb(68\, 68\, 68)\; font-family: Tahoma\, Arial\, sans-serif\;" />\n<br style="box-sizing: border-box\; color: rgb(68\, 68\, 68)\; font-family: Tahoma\, Arial\, sans-serif\;" />\n<span style="margin: 0px\; padding: 0px\; border: 0px\; outline: 0px\; box-sizing: border-box\; color: rgb(68\, 68\, 68)\; font-family: Tahoma\, Arial\, sans-serif\; font-size: 14px\;">Thank you\, to All Solutions Insurance for hosting our in person Business In Action.</span>
LOCATION:Location All Solutions Insurance 22364 Alessandro Blvd. Thank you\, to All Solutions Insurance for hosting our in person Business In Action.
UID:e.1843.3315
SEQUENCE:3
DTSTAMP:20260424T144421Z
URL:https://business.movalchamber.org/events/details/business-in-action-back-in-person-08-04-2021-3315
END:VEVENT

END:VCALENDAR
