BEGIN:VCALENDAR
VERSION:2.0
PRODID:-//ChamberMaster//Event Calendar 2.0//EN
METHOD:PUBLISH
X-PUBLISHED-TTL:P3D
REFRESH-INTERVAL:P3D
CALSCALE:GREGORIAN
BEGIN:VEVENT
DTSTART:20210630T143000Z
DTEND:20210630T153000Z
X-MICROSOFT-CDO-ALLDAYEVENT:FALSE
SUMMARY:Business In Action BACK IN PERSON
DESCRIPTION:B.I.A. is an excellent opportunity to meet other business and community leaders and to market your business as well as becoming informed on all upcoming events and activities.\n\n\n\nWednesday Jun 30\, 2021\n\n7:30 AM - 8:30 AM PDT\n\n\n\nLocation\n\nAll Solutions Insurance\n\n22364 Alessandro Blvd.\n\n\n\nThank you\, to All Solutions Insurance for hosting our in person Business In Action.
X-ALT-DESC;FMTTYPE=text/html:<span style="color: rgb(68\, 68\, 68)\; font-family: Tahoma\, Arial\, sans-serif\; font-size: 14px\;">B.I.A. is an excellent opportunity to meet other business and&nbsp\;community leaders and to market your business as well as becoming informed on all upcoming events and activities.</span><br />\n<br />\n<span style="font-size:14px\;"><strong><span content="2021-06-16T07:30" itemprop="startDate" style="margin: 0px\; padding: 0px\; border: 0px\; outline: 0px\; box-sizing: border-box\; color: rgb(68\, 68\, 68)\; font-family: Tahoma\, Arial\, sans-serif\;">Wednesday Jun 30\, 2021</span><br style="box-sizing: border-box\; color: rgb(68\, 68\, 68)\; font-family: Tahoma\, Arial\, sans-serif\;" />\n<span class="gz-details-time" style="margin: 0px\; padding: 0px\; border: 0px\; outline: 0px\; box-sizing: border-box\; color: rgb(68\, 68\, 68)\; font-family: Tahoma\, Arial\, sans-serif\;">7:30 AM - 8:30 AM PDT</span></strong><br />\n<br />\n<strong><span style="color: rgb(68\, 68\, 68)\; font-family: Tahoma\, Arial\, sans-serif\; text-align: -webkit-center\;">Location</span></strong></span><br />\n<strong style="color: rgb(68\, 68\, 68)\; font-family: Tahoma\, Arial\, sans-serif\;"><span style="font-size:14px\;"><span itemprop="name" style="margin: 0px\; padding: 0px\; border: 0px\; outline: 0px\; box-sizing: border-box\;">All Solutions Insurance</span></span></strong><br />\n<strong style="color: rgb(68\, 68\, 68)\; font-family: Tahoma\, Arial\, sans-serif\;"><span style="font-size:14px\;"><span itemprop="name" style="margin: 0px\; padding: 0px\; border: 0px\; outline: 0px\; box-sizing: border-box\;">22364 Alessandro Blvd.</span></span></strong><br />\n<br />\n<span style="color: rgb(68\, 68\, 68)\; font-family: Tahoma\, Arial\, sans-serif\; font-size: 14px\;">Thank you\, to All Solutions Insurance for hosting our in person Business In Action.</span><br />\n<br />\n&nbsp\;
LOCATION:All Solutions Insurance 22364 Alessandro Blvd.
UID:e.1843.2920
SEQUENCE:3
DTSTAMP:20260424T180856Z
URL:https://business.movalchamber.org/events/details/business-in-action-back-in-person-2920
END:VEVENT

END:VCALENDAR
