BEGIN:VCALENDAR
VERSION:2.0
PRODID:-//ChamberMaster//Event Calendar 2.0//EN
METHOD:PUBLISH
X-PUBLISHED-TTL:P3D
REFRESH-INTERVAL:P3D
CALSCALE:GREGORIAN
BEGIN:VEVENT
DTSTART:20200909T143000Z
DTEND:20200909T143000Z
X-MICROSOFT-CDO-ALLDAYEVENT:FALSE
SUMMARY:Virtual Business In Action (BIA)
DESCRIPTION:B.I.A. is an excellent opportunity to meet other business and community leaders and to market your business as well as becoming informed on all upcoming events and activities.
X-ALT-DESC;FMTTYPE=text/html:<span style="color: rgb(68\, 68\, 68)\; font-family: Tahoma\, Arial\, sans-serif\; font-size: 14px\;">B.I.A. is an excellent opportunity to meet other business and&nbsp\;community leaders and to market your business as well as becoming informed on all upcoming events and activities.</span>
LOCATION:Online Watch for LINK on Chamber website.
UID:e.1843.2939
SEQUENCE:3
DTSTAMP:20260425T105507Z
URL:https://business.movalchamber.org/events/details/business-in-action-bia-09-09-2020-2939
END:VEVENT

END:VCALENDAR
