BEGIN:VCALENDAR
VERSION:2.0
PRODID:-//ChamberMaster//Event Calendar 2.0//EN
METHOD:PUBLISH
X-PUBLISHED-TTL:P3D
REFRESH-INTERVAL:P3D
CALSCALE:GREGORIAN
BEGIN:VEVENT
DTSTART:20210113T180000Z
DTEND:20210113T190000Z
X-MICROSOFT-CDO-ALLDAYEVENT:FALSE
SUMMARY:Certifications For Your Business
DESCRIPTION:Gain an advantage over your competitors by obtaining certifications for your business. Attend this webinar and discover how securing the designation of Small Business\, Woman-Owned\, Minority-Owned\, or Disabled Veteran Business Enterprise can help you do business with some of the most reputable government agencies\, prime contractors and Fortune 500 companies.
X-ALT-DESC;FMTTYPE=text/html:Gain an advantage over your competitors by obtaining certifications for your business. Attend this webinar and discover how securing the designation of Small Business\, Woman-Owned\, Minority-Owned\, or Disabled Veteran Business Enterprise can help you do business with some of the most reputable government agencies\, prime contractors and Fortune 500 companies.
LOCATION:Online
UID:e.1843.3002
SEQUENCE:3
DTSTAMP:20260425T032338Z
URL:https://business.movalchamber.org/events/details/certifications-for-your-business-3002
END:VEVENT

END:VCALENDAR
