BEGIN:VCALENDAR
VERSION:2.0
PRODID:-//ChamberMaster//Event Calendar 2.0//EN
METHOD:PUBLISH
X-PUBLISHED-TTL:P3D
REFRESH-INTERVAL:P3D
CALSCALE:GREGORIAN
BEGIN:VEVENT
DTSTART:20200429T160000Z
DTEND:20200429T180000Z
X-MICROSOFT-CDO-ALLDAYEVENT:FALSE
SUMMARY:Certifications for Your Business and SBA 8(a) Application
DESCRIPTION:Inland Empire Small Business Development Center Training Event: Gain an advantage over your competitors by obtaining certifications for your business. Attend this seminar and discover how securing the designation of Small Business\, Woman-Owned\, Minority-Owned\, or Disabled Veteran Business Enterprise can help you do business with some of the most reputable government agencies\, prime contractors and Fortune 500 companies.
X-ALT-DESC;FMTTYPE=text/html:Inland Empire Small Business Development Center Training Event: Gain an advantage over your competitors by obtaining certifications for your business. Attend this seminar and discover how securing the designation of Small Business\, Woman-Owned\, Minority-Owned\, or Disabled Veteran Business Enterprise can help you do business with some of the most reputable government agencies\, prime contractors and Fortune 500 companies.
LOCATION:Moreno Valley Employment Resource Center\, 12625 Frederick Street\, Suite K-3\, Moreno Valley CA 92552
UID:e.1843.2895
SEQUENCE:3
DTSTAMP:20260425T213755Z
URL:https://business.movalchamber.org/events/details/certifications-for-your-business-and-sba-8-a-application-04-29-2020-2895
END:VEVENT

END:VCALENDAR
