BEGIN:VCALENDAR
VERSION:2.0
PRODID:-//ChamberMaster//Event Calendar 2.0//EN
METHOD:PUBLISH
X-PUBLISHED-TTL:P3D
REFRESH-INTERVAL:P3D
CALSCALE:GREGORIAN
BEGIN:VEVENT
DTSTART:20201028T170000Z
DTEND:20201028T181500Z
X-MICROSOFT-CDO-ALLDAYEVENT:FALSE
SUMMARY:Contracting with CA State Government
DESCRIPTION:This webinar from 10   11:15 a.m. is tailored for certified small businesses who are registered on Cal eProcure and looking to expand business opportunities and work with the State of California. Topics: - Acquisition methods - Contract opportunities - Existing state contracts - Contracts exempt from advertising - Do's and Don'ts of Bidding - Commercially useful function
X-ALT-DESC;FMTTYPE=text/html:This webinar from 10 &ndash\; 11:15 a.m. is tailored for certified small businesses who are registered on Cal eProcure and looking to expand business opportunities and work with the State of California. Topics: - Acquisition methods - Contract opportunities - Existing state contracts - Contracts exempt from advertising - Do&rsquo\;s and Don&rsquo\;ts of Bidding - Commercially useful function
LOCATION:Online
UID:e.1843.2992
SEQUENCE:3
DTSTAMP:20260425T103938Z
URL:https://business.movalchamber.org/events/details/contracting-with-ca-state-government-2992
END:VEVENT

END:VCALENDAR
