BEGIN:VCALENDAR
VERSION:2.0
PRODID:-//ChamberMaster//Event Calendar 2.0//EN
METHOD:PUBLISH
X-PUBLISHED-TTL:P3D
REFRESH-INTERVAL:P3D
CALSCALE:GREGORIAN
BEGIN:VEVENT
DTSTART:20210112T180000Z
DTEND:20210112T190000Z
X-MICROSOFT-CDO-ALLDAYEVENT:FALSE
SUMMARY:Customer Centric Omni-channels
DESCRIPTION:Are you connecting with today's shoppers both in-store and online that provides an uninterrupted experience in your retail shop? Shoppers expect more than a transactional relationship\, they want a seamless and personalized journey that is customer-centric across omni-channels. This workshop will explore the retailers' perspective of redirecting focus from product and brand to the customer. Takeaways: 1. Analyze the unique retail customer experience across all touchpoints and the challenges of transformation. 2. Identify and integrate multiple shopping techniques\, devices\, and channels to provide opportunities for the customers to purchase your merchandise.
X-ALT-DESC;FMTTYPE=text/html:Are you connecting with today&rsquo\;s shoppers both in-store and online that provides an uninterrupted experience in your retail shop? Shoppers expect more than a transactional relationship\, they want a seamless and personalized journey that is customer-centric across omni-channels. This workshop will explore the retailers&rsquo\; perspective of redirecting focus from product and brand to the customer. Takeaways: 1. Analyze the unique retail customer experience across all touchpoints and the challenges of transformation. 2. Identify and integrate multiple shopping techniques\, devices\, and channels to provide opportunities for the customers to purchase your merchandise.
LOCATION:Online
UID:e.1843.3001
SEQUENCE:3
DTSTAMP:20260425T032434Z
URL:https://business.movalchamber.org/events/details/customer-centric-omni-channels-3001
END:VEVENT

END:VCALENDAR
