BEGIN:VCALENDAR
VERSION:2.0
PRODID:-//ChamberMaster//Event Calendar 2.0//EN
METHOD:PUBLISH
X-PUBLISHED-TTL:P3D
REFRESH-INTERVAL:P3D
CALSCALE:GREGORIAN
BEGIN:VEVENT
DTSTART:20210722T220000Z
DTEND:20210722T233000Z
X-MICROSOFT-CDO-ALLDAYEVENT:FALSE
SUMMARY:CVSBDC Webinar: Ready\, Set\, Grow!
DESCRIPTION:Drive your business to the next level with this new small business development course! Sales & Marketing There is only one boss: CUSTOMERS! Growth in your business is all about attracting new customers and/or expanding what your existing customers are buying from you. This module will take your growth plan and help you hone in your efforts on bettering the outcomes of your current marketing efforts\, defining your target areas that you are trying to reach\, and developing a strategy to grow your customer base.
X-ALT-DESC;FMTTYPE=text/html:Drive your business to the next level with this new small business development course! Sales &amp\; Marketing There is only one boss: CUSTOMERS! Growth in your business is all about attracting new customers and/or expanding what your existing customers are buying from you. This module will take your growth plan and help you hone in your efforts on bettering the outcomes of your current marketing efforts\, defining your target areas that you are trying to reach\, and developing a strategy to grow your customer base.
LOCATION:Online
UID:e.1843.3109
SEQUENCE:3
DTSTAMP:20260424T161612Z
URL:https://business.movalchamber.org/events/details/cvsbdc-webinar-ready-set-grow-07-22-2021-3109
END:VEVENT

END:VCALENDAR
