BEGIN:VCALENDAR
VERSION:2.0
PRODID:-//ChamberMaster//Event Calendar 2.0//EN
METHOD:PUBLISH
X-PUBLISHED-TTL:P3D
REFRESH-INTERVAL:P3D
CALSCALE:GREGORIAN
BEGIN:VEVENT
DTSTART:20210708T220000Z
DTEND:20210708T233000Z
X-MICROSOFT-CDO-ALLDAYEVENT:FALSE
SUMMARY:CVSBDC Webinar: Ready\, Set\, Grow!
DESCRIPTION:Drive your business to the next level with this new small business development course! Planning & People Business planning can play out in many different ways. Anytime upper management comes together to plan for the success of a business\, it is a form of business planning. In this module\, we will explore Growth Strategies and the People needed to outline a summary of the business's current state\, as well as the state of the broader market\, along with detailed steps the business will take to improve performance and manage growth in the future.
X-ALT-DESC;FMTTYPE=text/html:Drive your business to the next level with this new small business development course! Planning &amp\; People Business planning can play out in many different ways. Anytime upper management comes together to plan for the success of a business\, it is a form of business planning. In this module\, we will explore Growth Strategies and the People needed to outline a summary of the business&rsquo\;s current state\, as well as the state of the broader market\, along with detailed steps the business will take to improve performance and manage growth in the future.
LOCATION:Online
UID:e.1843.3108
SEQUENCE:3
DTSTAMP:20260424T161353Z
URL:https://business.movalchamber.org/events/details/cvsbdc-webinar-ready-set-grow-3108
END:VEVENT

END:VCALENDAR
