BEGIN:VCALENDAR
VERSION:2.0
PRODID:-//ChamberMaster//Event Calendar 2.0//EN
METHOD:PUBLISH
X-PUBLISHED-TTL:P3D
REFRESH-INTERVAL:P3D
CALSCALE:GREGORIAN
BEGIN:VEVENT
DTSTART:20201027T200000Z
DTEND:20201027T213000Z
X-MICROSOFT-CDO-ALLDAYEVENT:FALSE
SUMMARY:Demystifying Business Expenses
DESCRIPTION:With tax season right around the corner\, attend this workshop and learn the various business expenses that you can legally deduct on your taxes! Sam Anjejo\, Tax Advisor\, will instruct the course and teach you how to file your taxes the right way from the start!
X-ALT-DESC;FMTTYPE=text/html:With tax season right around the corner\, attend this workshop and learn the various business expenses that you can legally deduct on your taxes! Sam Anjejo\, Tax Advisor\, will instruct the course and teach you how to file your taxes the right way from the start!
LOCATION:Online
UID:e.1843.2991
SEQUENCE:3
DTSTAMP:20260425T103844Z
URL:https://business.movalchamber.org/events/details/demystifying-business-expenses-2991
END:VEVENT

END:VCALENDAR
