BEGIN:VCALENDAR
VERSION:2.0
PRODID:-//ChamberMaster//Event Calendar 2.0//EN
METHOD:PUBLISH
X-PUBLISHED-TTL:P3D
REFRESH-INTERVAL:P3D
CALSCALE:GREGORIAN
BEGIN:VEVENT
DTSTART:20210120T180000Z
DTEND:20210120T193000Z
X-MICROSOFT-CDO-ALLDAYEVENT:FALSE
SUMMARY:Developing A Winning Business Plan
DESCRIPTION:Having a business plan is a necessity for the success of your small business\, as it acts as a road map for effective business operations. Join us for this interactive workshop and learn the steps to putting together a solid business plan. Your Marketing Plan and Financial Analysis/Projections will be key areas of focus.
X-ALT-DESC;FMTTYPE=text/html:Having a business plan is a necessity for the success of your small business\, as it acts as a road map for effective business operations. Join us for this interactive workshop and learn the steps to putting together a solid business plan. Your Marketing Plan and Financial Analysis/Projections will be key areas of focus.
LOCATION:Online
UID:e.1843.3007
SEQUENCE:3
DTSTAMP:20260425T031412Z
URL:https://business.movalchamber.org/events/details/developing-a-winning-business-plan-3007
END:VEVENT

END:VCALENDAR
