BEGIN:VCALENDAR
VERSION:2.0
PRODID:-//ChamberMaster//Event Calendar 2.0//EN
METHOD:PUBLISH
X-PUBLISHED-TTL:P3D
REFRESH-INTERVAL:P3D
CALSCALE:GREGORIAN
BEGIN:VEVENT
DTSTART:20210127T220000Z
DTEND:20210127T230000Z
X-MICROSOFT-CDO-ALLDAYEVENT:FALSE
SUMMARY:Digital Storefront Formation
DESCRIPTION:Do you have a digital storefront that represents your brand\, attracts the attention of potential customers\, motivates them to navigate through your site\, and make a purchase? Today\, the retail industry must adapt with the rise of the internet which has transformed the retail landscape across all industries. This workshop will provide digital storefront design techniques to help you survive in this ever-evolving market. Takeaways: - Illustrate the principles of e-retail design through the psychological motivations of color\, layout\, interface\, experience\, and responsive design components. - Identify and apply branding and design principles to create effective digital storefront designs.
X-ALT-DESC;FMTTYPE=text/html:Do you have a digital storefront that represents your brand\, attracts the attention of potential customers\, motivates them to navigate through your site\, and make a purchase? Today\, the retail industry must adapt with the rise of the internet which has transformed the retail landscape across all industries. This workshop will provide digital storefront design techniques to help you survive in this ever-evolving market. Takeaways: - Illustrate the principles of e-retail design through the psychological motivations of color\, layout\, interface\, experience\, and responsive design components. - Identify and apply branding and design principles to create effective digital storefront designs.
LOCATION:Online
UID:e.1843.3008
SEQUENCE:3
DTSTAMP:20260425T032154Z
URL:https://business.movalchamber.org/events/details/digital-storefront-formation-3008
END:VEVENT

END:VCALENDAR
