BEGIN:VCALENDAR
VERSION:2.0
PRODID:-//ChamberMaster//Event Calendar 2.0//EN
METHOD:PUBLISH
X-PUBLISHED-TTL:P3D
REFRESH-INTERVAL:P3D
CALSCALE:GREGORIAN
BEGIN:VEVENT
DTSTART:20210128T180000Z
DTEND:20210128T190000Z
X-MICROSOFT-CDO-ALLDAYEVENT:FALSE
SUMMARY:Doing Business with the County of Riverside
DESCRIPTION:Are you a contractor interested in learning about the bid opportunities available by your local government agencies? Join us to learn: - Purchasing and Contract Services - Current Purchasing and Contract Opportunities - Subcontractor Requirements and Policies - Minority Project Requirements and Policies
X-ALT-DESC;FMTTYPE=text/html:Are you a contractor interested in learning about the bid opportunities available by your local government agencies? Join us to learn: - Purchasing and Contract Services - Current Purchasing and Contract Opportunities - Subcontractor Requirements and Policies - Minority Project Requirements and Policies
LOCATION:Online
UID:e.1843.3009
SEQUENCE:3
DTSTAMP:20260425T032853Z
URL:https://business.movalchamber.org/events/details/doing-business-with-the-county-of-riverside-3009
END:VEVENT

END:VCALENDAR
