BEGIN:VCALENDAR
VERSION:2.0
PRODID:-//ChamberMaster//Event Calendar 2.0//EN
METHOD:PUBLISH
X-PUBLISHED-TTL:P3D
REFRESH-INTERVAL:P3D
CALSCALE:GREGORIAN
BEGIN:VEVENT
DTSTART:20200129T170000Z
DTEND:20200129T190000Z
X-MICROSOFT-CDO-ALLDAYEVENT:FALSE
SUMMARY:Doing Business With The Government
DESCRIPTION:Doing business with the government may seem complicated and overwhelming\, but we will make it simple for you to understand. Learn how to do business with the government today!
X-ALT-DESC;FMTTYPE=text/html:Doing business with the government may seem complicated and overwhelming\, but we will make it simple for you to understand. Learn how to do business with the government today!
LOCATION:Moreno Valley Employment Resource Center 12625 Frederick Street\, Ste. K3\, Moreno Valley CA 92553
UID:e.1843.2886
SEQUENCE:3
DTSTAMP:20260426T012608Z
URL:https://business.movalchamber.org/events/details/doing-business-with-the-government-2886
END:VEVENT

END:VCALENDAR
