BEGIN:VCALENDAR
VERSION:2.0
PRODID:-//ChamberMaster//Event Calendar 2.0//EN
METHOD:PUBLISH
X-PUBLISHED-TTL:P3D
REFRESH-INTERVAL:P3D
CALSCALE:GREGORIAN
BEGIN:VEVENT
DTSTART:20240119T153000Z
DTEND:20240119T173000Z
X-MICROSOFT-CDO-ALLDAYEVENT:FALSE
SUMMARY:Dr. Martin Luther King\, Jr. Scholarship Breakfast
DESCRIPTION:Dr. Martin Luther King\, Jr. Scholarship Breakfast
X-ALT-DESC;FMTTYPE=text/html:Dr. Martin Luther King\, Jr. Scholarship Breakfast
LOCATION:Moreno Valley Conference and Recreation Center 14075 Frederick Street Moreno Valley
UID:e.1843.3879
SEQUENCE:3
DTSTAMP:20260422T084847Z
URL:https://business.movalchamber.org/events/details/dr-martin-luther-king-jr-scholarship-breakfast-3879
END:VEVENT

END:VCALENDAR
