BEGIN:VCALENDAR
VERSION:2.0
PRODID:-//ChamberMaster//Event Calendar 2.0//EN
METHOD:PUBLISH
X-PUBLISHED-TTL:P3D
REFRESH-INTERVAL:P3D
CALSCALE:GREGORIAN
BEGIN:VEVENT
DTSTART:20210108T170000Z
DTEND:20210129T180000Z
X-MICROSOFT-CDO-ALLDAYEVENT:FALSE
SUMMARY:E-Commerce Webinar Series
DESCRIPTION:In just four weeks\, you can gain the tools to succeed as you establish a strong online presence. You will gain the ways and means to be able to choose where you want to be online\, launch your own ecommerce platform\, and learn about other digital tools to consider with the goal of developing a successful go-to-market strategy.
X-ALT-DESC;FMTTYPE=text/html:In just four weeks\, you can gain the tools to succeed as you establish a strong online presence. You will gain the ways and means to be able to choose where you want to be online\, launch your own ecommerce platform\, and learn about other digital tools to consider with the goal of developing a successful go-to-market strategy.
LOCATION:Online
UID:e.1843.2999
SEQUENCE:3
DTSTAMP:20260425T032433Z
URL:https://business.movalchamber.org/events/details/e-commerce-webinar-series-01-08-2021-2999
END:VEVENT

END:VCALENDAR
