BEGIN:VCALENDAR
VERSION:2.0
PRODID:-//ChamberMaster//Event Calendar 2.0//EN
METHOD:PUBLISH
X-PUBLISHED-TTL:P3D
REFRESH-INTERVAL:P3D
CALSCALE:GREGORIAN
BEGIN:VEVENT
DTSTART:20210716T170000Z
DTEND:20210716T180000Z
X-MICROSOFT-CDO-ALLDAYEVENT:FALSE
SUMMARY:E-Commerce Webinar Series (IESBDC)
DESCRIPTION:In just four weeks\, you can gain the tools to succeed as you establish a strong online presence. You will gain the ways and means to be able to choose where you want to be online\, launch your own ecommerce platform\, and learn about other digital tools to consider with the goal of developing a successful go-to-market strategy. Webinar 2 | Social Commerce | Friday\, July 16 from 10:00 AM-11:00 AM  The second webinar is about optimizing your ecommerce experience through presence on social media platforms\, meeting your customers where they are at.  These platforms will allow you the opportunity to strengthen relationships by engaging with your customers and showcasing your products in very visual and compelling ways. Facebook Marketplace Selling on Instagram Yelp & GMB Other: NextDoor\, Craigslist\, Groupon and more.
X-ALT-DESC;FMTTYPE=text/html:In just four weeks\, you can gain the&nbsp\;tools to succeed as you establish a strong online presence. You will gain the ways and means to be able to choose where you want to be online\, launch your own ecommerce platform\, and learn about other digital tools to consider with the goal of developing a successful go-to-market strategy. Webinar 2 | Social Commerce | Friday\,&nbsp\;July 16 from 10:00 AM-11:00 AM&nbsp\; The second webinar is about optimizing your ecommerce experience through presence on social media platforms\, meeting your customers where they are at.&nbsp\; These platforms will allow you the opportunity to strengthen relationships by engaging with your customers and showcasing your products in very visual and compelling ways. Facebook Marketplace Selling on Instagram Yelp &amp\; GMB Other: NextDoor\, Craigslist\, Groupon and more.
LOCATION:Online
UID:e.1843.3111
SEQUENCE:3
DTSTAMP:20260424T162618Z
URL:https://business.movalchamber.org/events/details/e-commerce-webinar-series-iesbdc-07-16-2021-3111
END:VEVENT

END:VCALENDAR
