BEGIN:VCALENDAR
VERSION:2.0
PRODID:-//ChamberMaster//Event Calendar 2.0//EN
METHOD:PUBLISH
X-PUBLISHED-TTL:P3D
REFRESH-INTERVAL:P3D
CALSCALE:GREGORIAN
BEGIN:VEVENT
DTSTART:20210723T170000Z
DTEND:20210723T180000Z
X-MICROSOFT-CDO-ALLDAYEVENT:FALSE
SUMMARY:E-Commerce Webinar Series (IESBDC)
DESCRIPTION:In just four weeks\, you can gain the tools to succeed as you establish a strong online presence. You will gain the ways and means to be able to choose where you want to be online\, launch your own ecommerce platform\, and learn about other digital tools to consider with the goal of developing a successful go-to-market strategy. Webinar 3 | E-Commerce Solutions | Friday\, July 23 from 10:00 AM-11:00 AM  The third webinar focuses on how to select your own ecommerce platform from the types of solutions available\, and how to build it. E-commerce Websites\, such as Wix\, Squarespace\, GoDaddy\, WordPress and more Pros & Cons
X-ALT-DESC;FMTTYPE=text/html:In just four weeks\, you can gain the&nbsp\;tools to succeed as you establish a strong online presence. You will gain the ways and means to be able to choose where you want to be online\, launch your own ecommerce platform\, and learn about other digital tools to consider with the goal of developing a successful go-to-market strategy. Webinar 3 | E-Commerce Solutions | Friday\,&nbsp\;July 23 from 10:00 AM-11:00 AM&nbsp\; The third webinar focuses on how to select your own ecommerce platform from the types of solutions available\, and how to build it. E-commerce Websites\, such as Wix\, Squarespace\, GoDaddy\, WordPress and more Pros &amp\; Cons
LOCATION:Online
UID:e.1843.3112
SEQUENCE:3
DTSTAMP:20260424T163310Z
URL:https://business.movalchamber.org/events/details/e-commerce-webinar-series-iesbdc-07-23-2021-3112
END:VEVENT

END:VCALENDAR
