BEGIN:VCALENDAR
VERSION:2.0
PRODID:-//ChamberMaster//Event Calendar 2.0//EN
METHOD:PUBLISH
X-PUBLISHED-TTL:P3D
REFRESH-INTERVAL:P3D
CALSCALE:GREGORIAN
BEGIN:VEVENT
DTSTART:20210730T170000Z
DTEND:20210730T180000Z
X-MICROSOFT-CDO-ALLDAYEVENT:FALSE
SUMMARY:E-Commerce Webinar Series (IESBDC)
DESCRIPTION:In just four weeks\, you can gain the tools to succeed as you establish a strong online presence. You will gain the ways and means to be able to choose where you want to be online\, launch your own ecommerce platform\, and learn about other digital tools to consider with the goal of developing a successful go-to-market strategy. Webinar 4 | Choosing the Best Platform for your Business | Friday\, July 30 from 10:00 AM-11:00 AM The last webinar in the series focused on marketplaces\, outlining the pros and cons so you can confidently select the options that are suitable for your business. Marketplaces Etsy eBay Amazon Pros & Cons
X-ALT-DESC;FMTTYPE=text/html:In just four weeks\, you can gain the&nbsp\;tools to succeed as you establish a strong online presence. You will gain the ways and means to be able to choose where you want to be online\, launch your own ecommerce platform\, and learn about other digital tools to consider with the goal of developing a successful go-to-market strategy. Webinar 4 | Choosing the Best Platform for your Business | Friday\,&nbsp\;July 30 from 10:00 AM-11:00 AM The last webinar in the series focused on marketplaces\, outlining the pros and cons so you can confidently select the options that are suitable for your business. Marketplaces Etsy eBay Amazon Pros &amp\; Cons
LOCATION:Online
UID:e.1843.3113
SEQUENCE:3
DTSTAMP:20260424T163452Z
URL:https://business.movalchamber.org/events/details/e-commerce-webinar-series-iesbdc-07-30-2021-3113
END:VEVENT

END:VCALENDAR
