BEGIN:VCALENDAR
VERSION:2.0
PRODID:-//ChamberMaster//Event Calendar 2.0//EN
METHOD:PUBLISH
X-PUBLISHED-TTL:P3D
REFRESH-INTERVAL:P3D
CALSCALE:GREGORIAN
BEGIN:VEVENT
DTSTART:20210709T170000Z
DTEND:20210709T180000Z
X-MICROSOFT-CDO-ALLDAYEVENT:FALSE
SUMMARY:E-Commerce Webinar Series (IESBDC)
DESCRIPTION:In just four weeks\, you can gain the tools to succeed as you establish a strong online presence. You will gain the ways and means to be able to choose where you want to be online\, launch your own ecommerce platform\, and learn about other digital tools to consider with the goal of developing a successful go-to-market strategy. Webinar 1 | Friday\, July 9 from 10:00 AM-11:00 AM  During the part one in a series of four webinars\, you will learn to create an online presence.  We will discuss the importance of establishing a digital footprint\, how to expand your reach and to leverage multiple channels for your business by creating multiple online channels. Why do you want to be online? Long term growth? Loyalty? Market size
X-ALT-DESC;FMTTYPE=text/html:In just four weeks\, you can gain the&nbsp\;tools to succeed as you establish a strong online presence. You will gain the ways and means to be able to choose where you want to be online\, launch your own ecommerce platform\, and learn about other digital tools to consider with the goal of developing a successful go-to-market strategy. Webinar 1 | Friday\, July 9 from 10:00 AM-11:00 AM&nbsp\; During the part one in a series of four webinars\, you will learn to create an online presence.&nbsp\; We will discuss the importance of establishing a digital footprint\, how to expand your reach and to leverage multiple channels for your business by creating multiple online channels. Why do you want to be online? Long term growth? Loyalty? Market size
LOCATION:Online
UID:e.1843.3110
SEQUENCE:3
DTSTAMP:20260424T163336Z
URL:https://business.movalchamber.org/events/details/e-commerce-webinar-series-iesbdc-3110
END:VEVENT

END:VCALENDAR
