BEGIN:VCALENDAR
VERSION:2.0
PRODID:-//ChamberMaster//Event Calendar 2.0//EN
METHOD:PUBLISH
X-PUBLISHED-TTL:P3D
REFRESH-INTERVAL:P3D
CALSCALE:GREGORIAN
BEGIN:VEVENT
DTSTART:20160917T003000Z
DTEND:20160917T030000Z
X-MICROSOFT-CDO-ALLDAYEVENT:FALSE
SUMMARY:End of Summer Luau
DESCRIPTION:Free Food\, Entertainment\, Refreshments and Raffles.
X-ALT-DESC;FMTTYPE=text/html:Free Food\, Entertainment\, Refreshments and Raffles.
LOCATION:14315 Nason St. Moreno Valley\, CA 92555
UID:e.1843.1809
SEQUENCE:3
DTSTAMP:20260426T043457Z
URL:https://business.movalchamber.org/events/details/end-of-summer-luau-1809
END:VEVENT

END:VCALENDAR
