BEGIN:VCALENDAR
VERSION:2.0
PRODID:-//ChamberMaster//Event Calendar 2.0//EN
METHOD:PUBLISH
X-PUBLISHED-TTL:P3D
REFRESH-INTERVAL:P3D
CALSCALE:GREGORIAN
BEGIN:VEVENT
DTSTART:20200311T160000Z
DTEND:20200311T180000Z
X-MICROSOFT-CDO-ALLDAYEVENT:FALSE
SUMMARY:Facebook for Business Basics
DESCRIPTION:Why Facebook for your business? Attend this seminar and learn why and how Facebook for Business can play a vital role in growth for your business. You will learn how to: create your Facebook for business page\; navigate your page\; tell "your story"\; create posts\; retrieve analytics\; use the Facebook for Business mobile app. Michael Alpert\, SBDC Business Consultant\, specializing in Digital Marketing and Social Media will be instructing this course. You will have the opportunity to schedule your no cost\, one-on-one consultation\, with Michael immediately following the seminar.
X-ALT-DESC;FMTTYPE=text/html:Why Facebook for your business? Attend this seminar and learn why and how Facebook for Business can play a vital role in growth for your business. You will learn how to: create your Facebook for business page\; navigate your page\; tell &quot\;your story&quot\;\; create posts\; retrieve analytics\; use the Facebook for Business mobile app. Michael Alpert\, SBDC Business Consultant\, specializing in Digital Marketing and Social Media will be instructing this course. You will have the opportunity to schedule your no cost\, one-on-one consultation\, with Michael immediately following the seminar.
LOCATION:Moreno Valley Employment Resource Center\, 12625 Frederick Street\, Suite K-3\, Moreno Valley CA 92552
UID:e.1843.2890
SEQUENCE:3
DTSTAMP:20260425T213745Z
URL:https://business.movalchamber.org/events/details/facebook-for-business-basics-03-11-2020-2890
END:VEVENT

END:VCALENDAR
