BEGIN:VCALENDAR
VERSION:2.0
PRODID:-//ChamberMaster//Event Calendar 2.0//EN
METHOD:PUBLISH
X-PUBLISHED-TTL:P3D
REFRESH-INTERVAL:P3D
CALSCALE:GREGORIAN
BEGIN:VEVENT
DTSTART:20160922T143000Z
DTEND:20160922T203000Z
X-MICROSOFT-CDO-ALLDAYEVENT:FALSE
SUMMARY:Farmers Market
DESCRIPTION:Featuring locally grown produce\, fresh flowers\, honey\, eggs\, breads\, jams\, tamales\, hummus\, olive oils and more! Free Parking\, RTA Bus Route 20\, Cash\, Credit Cards and WIC accepted.
X-ALT-DESC;FMTTYPE=text/html:Featuring locally grown produce\, fresh flowers\, honey\, eggs\, breads\, jams\, tamales\, hummus\, olive oils and more! Free Parking\, RTA Bus Route 20\, Cash\, Credit Cards and WIC accepted.
LOCATION:RUHS Medical Center\, 26520 Cactus Avenue\, Moreno Valley\, CA 92555
UID:e.1843.1810
SEQUENCE:3
DTSTAMP:20260426T043455Z
URL:https://business.movalchamber.org/events/details/farmers-market-1810
END:VEVENT

END:VCALENDAR
