BEGIN:VCALENDAR
VERSION:2.0
PRODID:-//ChamberMaster//Event Calendar 2.0//EN
METHOD:PUBLISH
X-PUBLISHED-TTL:P3D
REFRESH-INTERVAL:P3D
CALSCALE:GREGORIAN
BEGIN:VEVENT
DTSTART:20200520T160000Z
DTEND:20200520T220000Z
X-MICROSOFT-CDO-ALLDAYEVENT:FALSE
SUMMARY:Federal and State Basic Payroll Tax Seminar
DESCRIPTION:Inland Empire Small Business Development Training Center: Are you about to hire a new employee? Are you processing your current payroll taxes properly? As an employer\, it is to your advantage to know your obligations and understand the State and Federal payroll reporting requirements. Join us for an in-depth seminar presented by the California State Employment Development Department and the Internal Revenue Service and learn what you need to be doing now to ensure your business is in compliance with employment tax laws to avoid payroll tax problems and penalties.
X-ALT-DESC;FMTTYPE=text/html:Inland Empire Small Business Development Training Center: Are you about to hire a new employee? Are you processing your current payroll taxes properly? As an employer\, it is to your advantage to know your obligations and understand the State and Federal payroll reporting requirements. Join us for an in-depth seminar presented by the California State Employment Development Department and the Internal Revenue Service and learn what you need to be doing now to ensure your business is in compliance with employment tax laws to avoid payroll tax problems and penalties.
LOCATION:Moreno Valley Employment Resource Center- 12625 Frederick Street\, Suite K-3\, Moreno Valley CA 92552
UID:e.1843.2961
SEQUENCE:3
DTSTAMP:20260425T175959Z
URL:https://business.movalchamber.org/events/details/federal-and-state-basic-payroll-tax-seminar-2961
END:VEVENT

END:VCALENDAR
