BEGIN:VCALENDAR
VERSION:2.0
PRODID:-//ChamberMaster//Event Calendar 2.0//EN
METHOD:PUBLISH
X-PUBLISHED-TTL:P3D
REFRESH-INTERVAL:P3D
CALSCALE:GREGORIAN
BEGIN:VEVENT
DTSTART:20211126T180000Z
DTEND:20211128T000000Z
X-MICROSOFT-CDO-ALLDAYEVENT:FALSE
SUMMARY:Festival of Trees Holiday Fair
DESCRIPTION:Kick off the Holiday season at the Festival of Trees Holiday Fair at Crestmore Manor! This event features over 40 beautifully decorated Christmas trees decorated by our amazing volunteers and community partners\, children's activities\, holiday marketplace featuring local artisans\, and delicious treats from local food trucks and food vendors. The event is FREE and set for Friday\, November 26 to Saturday\, November 27 from 10 a.m. to 4 p.m.
X-ALT-DESC;FMTTYPE=text/html:<span style="font-family:arial\,sans-serif\;"><span style="font-size:10.5pt\;">Kick off the Holiday season at the Festival of Trees Holiday Fair at Crestmore Manor! This event features over 40 beautifully decorated Christmas trees decorated by our amazing volunteers and community partners\, children&rsquo\;s activities\, holiday marketplace featuring local artisans\, and delicious treats from local food trucks and food vendors. The event is FREE and set for Friday\, November 26 to Saturday\, November 27 from 10 a.m. to 4 p.m.</span></span>
LOCATION:Crestmore Manor 4600 Crestmore Road Riverside\, CA 92509
UID:e.1843.3329
SEQUENCE:3
DTSTAMP:20260424T090829Z
URL:https://business.movalchamber.org/events/details/festival-of-trees-holiday-fair-3329
END:VEVENT

END:VCALENDAR
