BEGIN:VCALENDAR
VERSION:2.0
PRODID:-//ChamberMaster//Event Calendar 2.0//EN
METHOD:PUBLISH
X-PUBLISHED-TTL:P3D
REFRESH-INTERVAL:P3D
CALSCALE:GREGORIAN
BEGIN:VEVENT
DTSTART:20210624T160000Z
DTEND:20210624T170000Z
X-MICROSOFT-CDO-ALLDAYEVENT:FALSE
SUMMARY:Google Webinar: Create YouTube Videos That Attract New Customers
DESCRIPTION:In this special creative workshop hosted by YouTube and Grow with Google\, we'll review a few different styles\, hear from a few experts\, and get you started on the way to shooting an engaging video to beautifully showcase your product\, your business\, and even you!
X-ALT-DESC;FMTTYPE=text/html:In this special creative workshop hosted by YouTube and Grow with Google\, we&rsquo\;ll review a few different styles\, hear from a few experts\, and get you started on the way to shooting an engaging video to beautifully showcase your product\, your business\, and even you!
LOCATION:
UID:e.1843.3082
SEQUENCE:3
DTSTAMP:20260424T194701Z
URL:https://business.movalchamber.org/events/details/google-webinar-create-youtube-videos-that-attract-new-customers-3082
END:VEVENT

END:VCALENDAR
