BEGIN:VCALENDAR
VERSION:2.0
PRODID:-//ChamberMaster//Event Calendar 2.0//EN
METHOD:PUBLISH
X-PUBLISHED-TTL:P3D
REFRESH-INTERVAL:P3D
CALSCALE:GREGORIAN
BEGIN:VEVENT
DTSTART:20260502T190000Z
DTEND:20260503T000000Z
X-MICROSOFT-CDO-ALLDAYEVENT:FALSE
SUMMARY:Grand Opening - LCBBQ
DESCRIPTION:Grand Opening - LCBBQ
X-ALT-DESC;FMTTYPE=text/html:Grand Opening - LCBBQ
LOCATION:14051 Indian Street\, Suite D Moreno Valley
UID:e.1843.7464
SEQUENCE:3
DTSTAMP:20260424T130706Z
URL:https://business.movalchamber.org/events/details/grand-opening-lcbbq-7464
END:VEVENT

END:VCALENDAR
