BEGIN:VCALENDAR
VERSION:2.0
PRODID:-//ChamberMaster//Event Calendar 2.0//EN
METHOD:PUBLISH
X-PUBLISHED-TTL:P3D
REFRESH-INTERVAL:P3D
CALSCALE:GREGORIAN
BEGIN:VEVENT
DTSTART:20210113T220000Z
DTEND:20210113T233000Z
X-MICROSOFT-CDO-ALLDAYEVENT:FALSE
SUMMARY:Helping Your Travel Business Recover
DESCRIPTION:The travel industry has been severely impacted by COVID. As travel becomes possible again\, it's important to have a plan for your business to recover. This workshop will provide an industry update and recommended COVID policies and procedures to have in place. Then we will discuss how to effectively market your business during these uncertain times.
X-ALT-DESC;FMTTYPE=text/html:The travel industry has been severely impacted by COVID. As travel becomes possible again\, it&rsquo\;s important to have a plan for your business to recover. This workshop will provide an industry update and recommended COVID policies and procedures to have in place. Then we will discuss how to effectively market your business during these uncertain times.
LOCATION:Online
UID:e.1843.3003
SEQUENCE:3
DTSTAMP:20260425T033158Z
URL:https://business.movalchamber.org/events/details/helping-your-travel-business-recover-3003
END:VEVENT

END:VCALENDAR
