BEGIN:VCALENDAR
VERSION:2.0
PRODID:-//ChamberMaster//Event Calendar 2.0//EN
METHOD:PUBLISH
X-PUBLISHED-TTL:P3D
REFRESH-INTERVAL:P3D
CALSCALE:GREGORIAN
BEGIN:VEVENT
DTSTART:20201014T170000Z
DTEND:20201014T181500Z
X-MICROSOFT-CDO-ALLDAYEVENT:FALSE
SUMMARY:How to do Business with the State of CA-DGS
DESCRIPTION:The California state government spends approximately $10 billion annually on goods\, services and public works. Do you own or work for a small business? Are you interested in expanding your client base? Perhaps you should look into the government sector. The State of California does business with numerous Small Businesses (SB) throughout the state\, buying products and services in IT\, construction\, temporary labor and even pencils. The state's Department of General Services (DGS) Procurement Division (PD) is the central purchasing authority for all state departments\, agencies\, institutions\, community colleges\, technical institutes and city or local boards of education.
X-ALT-DESC;FMTTYPE=text/html:The California state government spends approximately $10 billion annually on goods\, services and public works. Do you own or work for a small business? Are you interested in expanding your client base? Perhaps you should look into the government sector. The State of California does business with numerous Small Businesses (SB) throughout the state\, buying products and services in IT\, construction\, temporary labor and even pencils. The state&rsquo\;s Department of General Services (DGS) Procurement Division (PD) is the central purchasing authority for all state departments\, agencies\, institutions\, community colleges\, technical institutes and city or local boards of education.
LOCATION:Online
UID:e.1843.2983
SEQUENCE:3
DTSTAMP:20260425T105406Z
URL:https://business.movalchamber.org/events/details/how-to-do-business-with-the-state-of-ca-dgs-2983
END:VEVENT

END:VCALENDAR
