BEGIN:VCALENDAR
VERSION:2.0
PRODID:-//ChamberMaster//Event Calendar 2.0//EN
METHOD:PUBLISH
X-PUBLISHED-TTL:P3D
REFRESH-INTERVAL:P3D
CALSCALE:GREGORIAN
BEGIN:VEVENT
DTSTART:20201013T170000Z
DTEND:20201013T180000Z
X-MICROSOFT-CDO-ALLDAYEVENT:FALSE
SUMMARY:How to Grow Your Business with Google Search Ads
DESCRIPTION:For many\, the thought of creating Google Search ads can feel overwhelming. Maybe you're not sure how they work and you don't want to waste money trying to figure them out. But what if you could ease that sense of overwhelm by knowing how to create Google Search Ads that cost-effectively drive the right traffic to your website? That's what we'll show you in this engaging presentation. We'll discuss how to create Google Search Ads designed to grow your business. You'll learn: - What Google Search Ads are and how they work - How to create\, maintain\, and manage Google Search Ads - Tips and strategies for getting great results
X-ALT-DESC;FMTTYPE=text/html:For many\, the thought of creating Google Search ads can feel overwhelming. Maybe you&rsquo\;re not sure how they work and you don&rsquo\;t want to waste money trying to figure them out. But what if you could ease that sense of overwhelm by knowing how to create Google Search Ads that cost-effectively drive the right traffic to your website? That&rsquo\;s what we&rsquo\;ll show you in this engaging presentation. We&rsquo\;ll discuss how to create Google Search Ads designed to grow your business. You&rsquo\;ll learn: - What Google Search Ads are and how they work - How to create\, maintain\, and manage Google Search Ads - Tips and strategies for getting great results
LOCATION:Online
UID:e.1843.2982
SEQUENCE:3
DTSTAMP:20260425T105236Z
URL:https://business.movalchamber.org/events/details/how-to-grow-your-business-with-google-search-ads-2982
END:VEVENT

END:VCALENDAR
