BEGIN:VCALENDAR
VERSION:2.0
PRODID:-//ChamberMaster//Event Calendar 2.0//EN
METHOD:PUBLISH
X-PUBLISHED-TTL:P3D
REFRESH-INTERVAL:P3D
CALSCALE:GREGORIAN
BEGIN:VEVENT
DTSTART:20200221T020000Z
DTEND:20200221T040000Z
X-MICROSOFT-CDO-ALLDAYEVENT:FALSE
SUMMARY:How to Start a Small Business
DESCRIPTION:Inland Empire SBDC Training Event: If you are a new or aspiring business owner\, this workshop is a must! Discuss the steps to take towards starting your first business. The "How to Start a Small Business" workshop is presented by an SBDC Business Consultant who will discuss informational topics such as the Legal Forms of Organization and Licensing and Permits. After the workshop\, you will have the opportunity to schedule a free\, one-on-one counseling appointment with an SBDC Business Consultant.
X-ALT-DESC;FMTTYPE=text/html:Inland Empire SBDC Training Event: If you are a new or aspiring business owner\, this workshop is a must! Discuss the steps to take towards starting your first business. The &ldquo\;How to Start a Small Business&rdquo\; workshop is presented by an SBDC Business Consultant who will discuss informational topics such as the Legal Forms of Organization and Licensing and Permits. After the workshop\, you will have the opportunity to schedule a free\, one-on-one counseling appointment with an SBDC Business Consultant.
LOCATION:Moreno Valley Employment Resource Center\, 12625 Frederick Street\, Suite K-3\, Moreno Valley CA 92552
UID:e.1843.2855
SEQUENCE:3
DTSTAMP:20260425T233301Z
URL:https://business.movalchamber.org/events/details/how-to-start-a-small-business-02-20-2020-2855
END:VEVENT

END:VCALENDAR
