BEGIN:VCALENDAR
VERSION:2.0
PRODID:-//ChamberMaster//Event Calendar 2.0//EN
METHOD:PUBLISH
X-PUBLISHED-TTL:P3D
REFRESH-INTERVAL:P3D
CALSCALE:GREGORIAN
BEGIN:VEVENT
DTSTART:20200304T170000Z
DTEND:20200304T190000Z
X-MICROSOFT-CDO-ALLDAYEVENT:FALSE
SUMMARY:How to Start a Small Business
DESCRIPTION:If you are a new or aspiring business owner this workshop is a must! At this workshop\, you will learn the steps to take towards starting your first business. The "How to Start a Small Business" workshop is presented by an SBDC Business Consultant who will discuss informational topics such as:   Being an Entrepreneur   Business Planning   Small Business Financing   Legal Forms of Organization   Licensing and Permits   The Services Provided By The Inland Empire SBDC
X-ALT-DESC;FMTTYPE=text/html:If you are a new or aspiring business owner this workshop is a must! At this workshop\, you will learn the steps to take towards starting your first business. The &ldquo\;How to Start a Small Business&rdquo\; workshop is presented by an SBDC Business Consultant who will discuss informational topics such as: &bull\; Being an Entrepreneur &bull\; Business Planning &bull\; Small Business Financing &bull\; Legal Forms of Organization &bull\; Licensing and Permits &bull\; The Services Provided By The Inland Empire SBDC
LOCATION:Moreno Valley Employment Resource Center\, 12625 Frederick Street\, Suite K-3\, Moreno Valley CA 92552
UID:e.1843.2889
SEQUENCE:3
DTSTAMP:20260425T233336Z
URL:https://business.movalchamber.org/events/details/how-to-start-a-small-business-03-04-2020-2889
END:VEVENT

END:VCALENDAR
