BEGIN:VCALENDAR
VERSION:2.0
PRODID:-//ChamberMaster//Event Calendar 2.0//EN
METHOD:PUBLISH
X-PUBLISHED-TTL:P3D
REFRESH-INTERVAL:P3D
CALSCALE:GREGORIAN
BEGIN:VEVENT
DTSTART:20200506T160000Z
DTEND:20200506T180000Z
X-MICROSOFT-CDO-ALLDAYEVENT:FALSE
SUMMARY:How to Start a Small Business
DESCRIPTION:Inland Empire Small Business Center Training Event: If you are a new or aspiring business owner this workshop is a must! At this workshop\, you will learn the steps to take towards starting your first business. The "How to Start a Small Business" workshop is presented by an SBDC Business Consultant who will discuss informational topics such as:   Being an Entrepreneur   Business Planning   Small Business Financing   Legal Forms of Organization   Licensing and Permits
X-ALT-DESC;FMTTYPE=text/html:Inland Empire Small Business Center Training Event: If you are a new or aspiring business owner this workshop is a must! At this workshop\, you will learn the steps to take towards starting your first business. The &ldquo\;How to Start a Small Business&rdquo\; workshop is presented by an SBDC Business Consultant who will discuss informational topics such as: &bull\; Being an Entrepreneur &bull\; Business Planning &bull\; Small Business Financing &bull\; Legal Forms of Organization &bull\; Licensing and Permits
LOCATION:Moreno Valley Employment Resource Center - 12625 Frederick Street\, Suite K-3 \, Moreno Valley CA 92552
UID:e.1843.2959
SEQUENCE:3
DTSTAMP:20260425T180257Z
URL:https://business.movalchamber.org/events/details/how-to-start-a-small-business-05-06-2020-2959
END:VEVENT

END:VCALENDAR
