BEGIN:VCALENDAR
VERSION:2.0
PRODID:-//ChamberMaster//Event Calendar 2.0//EN
METHOD:PUBLISH
X-PUBLISHED-TTL:P3D
REFRESH-INTERVAL:P3D
CALSCALE:GREGORIAN
BEGIN:VEVENT
DTSTART:20201006T230000Z
DTEND:20201007T000000Z
X-MICROSOFT-CDO-ALLDAYEVENT:FALSE
SUMMARY:How to Start a Small Business
DESCRIPTION:If you are a new or aspiring business owner\, this workshop is a must! Learn the steps to starting your own business at the "How to Start a Small Business" workshop\, presented by an SBDC Business Consultant. This introductory course will discuss informational topics such as Being an Entrepreneur\, Business Planning\, Small Business Financing\, the Legal Forms of Organization\, Licensing and Permits and the No-Cost Services Offered By The Inland Empire SBDC.
X-ALT-DESC;FMTTYPE=text/html:If you are a new or aspiring business owner\, this workshop is a must! Learn the steps to starting your own business at the &ldquo\;How to Start a Small Business&rdquo\; workshop\, presented by an SBDC Business Consultant. This introductory course will discuss informational topics such as Being an Entrepreneur\, Business Planning\, Small Business Financing\, the Legal Forms of Organization\, Licensing and Permits and the No-Cost Services Offered By The Inland Empire SBDC.
LOCATION:Online
UID:e.1843.2978
SEQUENCE:3
DTSTAMP:20260425T105034Z
URL:https://business.movalchamber.org/events/details/how-to-start-a-small-business-10-06-2020-2978
END:VEVENT

END:VCALENDAR
