BEGIN:VCALENDAR
VERSION:2.0
PRODID:-//ChamberMaster//Event Calendar 2.0//EN
METHOD:PUBLISH
X-PUBLISHED-TTL:P3D
REFRESH-INTERVAL:P3D
CALSCALE:GREGORIAN
BEGIN:VEVENT
DTSTART:20201008T210000Z
DTEND:20201008T223000Z
X-MICROSOFT-CDO-ALLDAYEVENT:FALSE
SUMMARY:HR Compliance and Best Practices
DESCRIPTION:This seminar will offer employers a discussion on how to reduce their company's risk of fines\, penalties and employment related lawsuits by providing the tools and training to identify and correct areas of non-compliance within the company's human resources function. Topics to be discussed include: key compliance requirements relating to recruitment\, hiring\, employee classifications\, meal & rest periods\, timekeeping\, record keeping\, payment of wages\, leave of absences\, disciplinary actions\, and terminations. Presented by Lynn Hounsley\, Integrity HR\, Inc.
X-ALT-DESC;FMTTYPE=text/html:This seminar will offer employers a discussion on how to reduce their company&#39\;s risk of fines\, penalties and employment related lawsuits by providing the tools and training to identify and correct areas of non-compliance within the company&#39\;s human resources function. Topics to be discussed include: key compliance requirements relating to recruitment\, hiring\, employee classifications\, meal &amp\; rest periods\, timekeeping\, record keeping\, payment of wages\, leave of absences\, disciplinary actions\, and terminations. Presented by Lynn Hounsley\, Integrity HR\, Inc.
LOCATION:Online
UID:e.1843.2980
SEQUENCE:3
DTSTAMP:20260425T104346Z
URL:https://business.movalchamber.org/events/details/hr-compliance-and-best-practices-10-08-2020-2980
END:VEVENT

END:VCALENDAR
