BEGIN:VCALENDAR
VERSION:2.0
PRODID:-//ChamberMaster//Event Calendar 2.0//EN
METHOD:PUBLISH
X-PUBLISHED-TTL:P3D
REFRESH-INTERVAL:P3D
CALSCALE:GREGORIAN
BEGIN:VEVENT
DTSTART:20201021T170000Z
DTEND:20201021T180000Z
X-MICROSOFT-CDO-ALLDAYEVENT:FALSE
SUMMARY:I'm Certified\, Now What?
DESCRIPTION:Attend this webinar to learn how to pursue contract opportunities with the state of California once your business has a Small Business or Disabled Veteran Business Enterprise certification. Featuring a live Q&A\, get answers to your questions and learn how to maximize your contract opportunities with the state. Topics: 1. Find bid opportunities 2. Improve your Cal eProcure profile 3. Conduct market research 4. Contact an advocate 5. Reciprocity 6. Commercially Useful Function 7. Resources
X-ALT-DESC;FMTTYPE=text/html:Attend this webinar to learn how to pursue contract opportunities with the state of California once your business has a Small Business or Disabled Veteran Business Enterprise certification. Featuring a live Q&amp\;A\, get answers to your questions and learn how to maximize your contract opportunities with the state. Topics: 1. Find bid opportunities 2. Improve your Cal eProcure profile 3. Conduct market research 4. Contact an advocate 5. Reciprocity 6. Commercially Useful Function 7. Resources
LOCATION:Online
UID:e.1843.2987
SEQUENCE:3
DTSTAMP:20260425T104019Z
URL:https://business.movalchamber.org/events/details/i-m-certified-now-what-2987
END:VEVENT

END:VCALENDAR
