BEGIN:VCALENDAR
VERSION:2.0
PRODID:-//ChamberMaster//Event Calendar 2.0//EN
METHOD:PUBLISH
X-PUBLISHED-TTL:P3D
REFRESH-INTERVAL:P3D
CALSCALE:GREGORIAN
BEGIN:VEVENT
DTSTART:20200326T160000Z
DTEND:20200326T180000Z
X-MICROSOFT-CDO-ALLDAYEVENT:FALSE
SUMMARY:IESBDC ¦ How to Start a Small Business – Veteran Edition
DESCRIPTION:If you are a Veteran who is interested in starting your own business\, this workshop is a must! Learn the steps to starting your own business at the "How to Start a Small Business" workshop\, presented by an SBDC Business Consultant. This introductory course will discuss informational topics such as: - Being an Entrepreneur - Business Planning - Veteran Business Financing options - the Legal Forms of Organization - Licensing and Permits - Veteran Franchising Opportunities
X-ALT-DESC;FMTTYPE=text/html:If you are a Veteran who is interested in starting your own business\, this workshop is a must! Learn the steps to starting your own business at the &ldquo\;How to Start a Small Business&rdquo\; workshop\, presented by an SBDC Business Consultant. This introductory course will discuss informational topics such as: - Being an Entrepreneur - Business Planning - Veteran Business Financing options - the Legal Forms of Organization - Licensing and Permits - Veteran Franchising Opportunities
LOCATION:Moreno Valley Employment Resource Center 12625 Frederick St. Suite K3\, Moreno Valley\, CA 92553
UID:e.1843.2963
SEQUENCE:3
DTSTAMP:20260425T213947Z
URL:https://business.movalchamber.org/events/details/iesbdc-how-to-start-a-small-business-veteran-edition-2963
END:VEVENT

END:VCALENDAR
