BEGIN:VCALENDAR
VERSION:2.0
PRODID:-//ChamberMaster//Event Calendar 2.0//EN
METHOD:PUBLISH
X-PUBLISHED-TTL:P3D
REFRESH-INTERVAL:P3D
CALSCALE:GREGORIAN
BEGIN:VEVENT
DTSTART:20210610T210000Z
DTEND:20210610T220000Z
X-MICROSOFT-CDO-ALLDAYEVENT:FALSE
SUMMARY:IESBDC Webinar: Amazon A-Z
DESCRIPTION:Join us for this two-day webinar series that will help you: Decide If You Should Sell On Amazon Determine How To Identify Products That Will Be Profitable And Successful On Amazon Learn The Basics Of How: To set up your account List your items Promote The Effectively To Rank High To Initiate Your Own Marketplace Project
X-ALT-DESC;FMTTYPE=text/html:Join us for this two-day webinar series that will help you: Decide If You Should Sell On Amazon Determine How To Identify Products That Will Be Profitable And Successful On Amazon Learn The Basics Of How: To set up your account List your items Promote The Effectively To Rank High To Initiate Your Own Marketplace Project
LOCATION:
UID:e.1843.3068
SEQUENCE:3
DTSTAMP:20260424T180610Z
URL:https://business.movalchamber.org/events/details/iesbdc-webinar-amazon-a-z-06-10-2021-3068
END:VEVENT

END:VCALENDAR
