BEGIN:VCALENDAR
VERSION:2.0
PRODID:-//ChamberMaster//Event Calendar 2.0//EN
METHOD:PUBLISH
X-PUBLISHED-TTL:P3D
REFRESH-INTERVAL:P3D
CALSCALE:GREGORIAN
BEGIN:VEVENT
DTSTART:20210616T170000Z
DTEND:20210616T183000Z
X-MICROSOFT-CDO-ALLDAYEVENT:FALSE
SUMMARY:IESBDC Webinar: Best Hiring Practices and Finding the Right Employees
DESCRIPTION:Hiring the right team member is critical in many aspects. This workshop focuses on steps and methods to select the "right" fit for your company. Hiring the right fit increases morale\, productivity\, and retention. Wrong hires add to the cost of turnover\; Bad hires add to the cost of being an employer. Stop in and discuss how to add "A" players to your team.
X-ALT-DESC;FMTTYPE=text/html:Hiring the right team member is critical in many aspects. This workshop focuses on steps and methods to select the &ldquo\;right&rdquo\; fit for your company. Hiring the right fit increases morale\, productivity\, and retention. Wrong hires add to the cost of turnover\; Bad hires add to the cost of being an employer. Stop in and discuss how to add &ldquo\;A&rdquo\; players to your team.
LOCATION:
UID:e.1843.3073
SEQUENCE:3
DTSTAMP:20260424T180806Z
URL:https://business.movalchamber.org/events/details/iesbdc-webinar-best-hiring-practices-and-finding-the-right-employees-3073
END:VEVENT

END:VCALENDAR
