BEGIN:VCALENDAR
VERSION:2.0
PRODID:-//ChamberMaster//Event Calendar 2.0//EN
METHOD:PUBLISH
X-PUBLISHED-TTL:P3D
REFRESH-INTERVAL:P3D
CALSCALE:GREGORIAN
BEGIN:VEVENT
DTSTART:20210618T170000Z
DTEND:20210618T180000Z
X-MICROSOFT-CDO-ALLDAYEVENT:FALSE
SUMMARY:IESBDC Webinar: Branding For Your Small Business
DESCRIPTION:Taking your digital platforms to the marketplace\, and paying to play! Attend this seminar and learn: What will be the best platform for my business to monetize advertisement on? Creating a budget for individual campaigns. Using insights to make educated decisions based on the data from previous posts to monetize advertisements. Reviewing campaign results and interpreting them for future campaigns.
X-ALT-DESC;FMTTYPE=text/html:Taking your digital platforms to the marketplace\, and paying to play! Attend this seminar and learn: What will be the best platform for my business to monetize advertisement on? Creating a budget for individual campaigns. Using insights to make educated decisions based on the data from previous posts to monetize advertisements. Reviewing campaign results and interpreting them for future campaigns.
LOCATION:
UID:e.1843.3079
SEQUENCE:3
DTSTAMP:20260424T200350Z
URL:https://business.movalchamber.org/events/details/iesbdc-webinar-branding-for-your-small-business-06-18-2021-3079
END:VEVENT

END:VCALENDAR
